BEGIN:VCALENDAR
VERSION:2.0
PRODID:-//ical.marudot.com//iCal Event Maker
CALSCALE:GREGORIAN
BEGIN:VTIMEZONE
TZID:Europe/Berlin
LAST-MODIFIED:20250410T142247Z
TZURL:https://www.tzurl.org/zoneinfo-outlook/Europe/Berlin
X-LIC-LOCATION:Europe/Berlin
BEGIN:DAYLIGHT
TZNAME:CEST
TZOFFSETFROM:+0100
TZOFFSETTO:+0200
DTSTART:19700329T020000
RRULE:FREQ=YEARLY;BYMONTH=3;BYDAY=-1SU
END:DAYLIGHT
BEGIN:STANDARD
TZNAME:CET
TZOFFSETFROM:+0200
TZOFFSETTO:+0100
DTSTART:19701025T030000
RRULE:FREQ=YEARLY;BYMONTH=10;BYDAY=-1SU
END:STANDARD
END:VTIMEZONE
BEGIN:VEVENT
DTSTAMP:20260419T175311Z
UID:1776620963953-16813@ical.marudot.com
DTSTART;TZID=Europe/Berlin:20260425T100000
RRULE:FREQ=YEARLY;BYMONTH=4;BYMONTHDAY=25;UNTIL=20260426T080000Z
DTEND;TZID=Europe/Berlin:20260425T140000
SUMMARY:Breakfast in Green 2026
URL:https://fridaysforfuture.hamburg
DESCRIPTION:Frühstücke ganz entspannt mit uns auf dem Carl-Ossietzky-Platz und Teil der Langen Reihe und setze ein Zeichen für die Verkehrswende\, gegen Versiegelung und Flächenfraß!\n\nBreakfast in Green\, veranstaltet vom BUND Hamburg\, mit den Hamburger Ortsgruppen von ADFC\, Fridays for Future und Parents for Future.
LOCATION:Lange Reihe/Carl-von-Ossietzky-Platz
BEGIN:VALARM
ACTION:DISPLAY
DESCRIPTION:Breakfast in Green 2026
TRIGGER:-P1D
END:VALARM
BEGIN:VALARM
ACTION:DISPLAY
DESCRIPTION:Breakfast in Green 2026
TRIGGER:-PT2H
END:VALARM
END:VEVENT
END:VCALENDAR