BEGIN:VCALENDAR
VERSION:2.0
PRODID:-//ical.marudot.com//iCal Event Maker
CALSCALE:GREGORIAN
BEGIN:VTIMEZONE
TZID:Europe/Berlin
LAST-MODIFIED:20250410T142247Z
TZURL:https://www.tzurl.org/zoneinfo-outlook/Europe/Berlin
X-LIC-LOCATION:Europe/Berlin
BEGIN:DAYLIGHT
TZNAME:CEST
TZOFFSETFROM:+0100
TZOFFSETTO:+0200
DTSTART:19700329T020000
RRULE:FREQ=YEARLY;BYMONTH=3;BYDAY=-1SU
END:DAYLIGHT
BEGIN:STANDARD
TZNAME:CET
TZOFFSETFROM:+0200
TZOFFSETTO:+0100
DTSTART:19701025T030000
RRULE:FREQ=YEARLY;BYMONTH=10;BYDAY=-1SU
END:STANDARD
END:VTIMEZONE
BEGIN:VEVENT
DTSTAMP:20260419T175209Z
UID:1776620550605-82323@ical.marudot.com
DTSTART;TZID=Europe/Berlin:20260424T170000
RRULE:FREQ=YEARLY;BYMONTH=4;BYMONTHDAY=24;UNTIL=20260425T150000Z
DTEND;TZID=Europe/Berlin:20260424T190000
SUMMARY:Gas-Aktion am 24. April
URL:https://fridaysforfuture.hamburg
DESCRIPTION:Die Aktion von Fridays for Future Hamburg zum bundesweiten Gas-Aktionstag am Freitag\, den 24.04.2026. Wir freuen uns auf Dich!
LOCATION:Ecke Neuer Jungfernstieg/Lombardsbrücke
BEGIN:VALARM
ACTION:DISPLAY
DESCRIPTION:Gas-Aktion am 24. April
TRIGGER:-P1D
END:VALARM
BEGIN:VALARM
ACTION:DISPLAY
DESCRIPTION:Gas-Aktion am 24. April
TRIGGER:-PT2H
END:VALARM
END:VEVENT
END:VCALENDAR